BEGIN:VCALENDAR
VERSION:2.0
PRODID:-//Mount Eagle Elementary PTO - ECPv6.14.0//NONSGML v1.0//EN
CALSCALE:GREGORIAN
METHOD:PUBLISH
X-ORIGINAL-URL:https://mteaglepto.com
X-WR-CALDESC:Events for Mount Eagle Elementary PTO
REFRESH-INTERVAL;VALUE=DURATION:PT1H
X-Robots-Tag:noindex
X-PUBLISHED-TTL:PT1H
BEGIN:VTIMEZONE
TZID:America/New_York
BEGIN:DAYLIGHT
TZOFFSETFROM:-0500
TZOFFSETTO:-0400
TZNAME:EDT
DTSTART:20250309T070000
END:DAYLIGHT
BEGIN:STANDARD
TZOFFSETFROM:-0400
TZOFFSETTO:-0500
TZNAME:EST
DTSTART:20251102T060000
END:STANDARD
END:VTIMEZONE
BEGIN:VEVENT
DTSTART;VALUE=DATE:20250401
DTEND;VALUE=DATE:20250402
DTSTAMP:20260423T045423
CREATED:20250314T141711Z
LAST-MODIFIED:20250314T141711Z
UID:2482-1743465600-1743551999@mteaglepto.com
SUMMARY:Teacher Work Day- No School
DESCRIPTION:
URL:https://mteaglepto.com/events/teacher-work-day-no-school/
END:VEVENT
BEGIN:VEVENT
DTSTART;TZID=America/New_York:20250406T080000
DTEND;TZID=America/New_York:20250406T170000
DTSTAMP:20260423T045423
CREATED:20250312T165909Z
LAST-MODIFIED:20250312T165909Z
UID:2464-1743926400-1743958800@mteaglepto.com
SUMMARY:Garden work day: make-up/part 2
DESCRIPTION:Time TBD\, weather permitting\, we will continue getting our Mount Eagle garden ready for Earth day.
URL:https://mteaglepto.com/events/garden-work-day-make-up-part-2/
LOCATION:Mount Eagle School\, 6116 N. Kings Highway\, VA\, 22303\, United States
ORGANIZER;CN="Mount Eagle PTO":MAILTO:mteaglepto@gmail.com
END:VEVENT
BEGIN:VEVENT
DTSTART;VALUE=DATE:20250414
DTEND;VALUE=DATE:20250419
DTSTAMP:20260423T045423
CREATED:20250314T141847Z
LAST-MODIFIED:20250314T141847Z
UID:2484-1744588800-1745020799@mteaglepto.com
SUMMARY:Spring Break- No School
DESCRIPTION:
URL:https://mteaglepto.com/events/spring-break-no-school/
END:VEVENT
BEGIN:VEVENT
DTSTART;TZID=America/New_York:20250426T100000
DTEND;TZID=America/New_York:20250426T120000
DTSTAMP:20260423T045423
CREATED:20250312T170205Z
LAST-MODIFIED:20250408T144210Z
UID:2467-1745661600-1745668800@mteaglepto.com
SUMMARY:EARTH DAY
DESCRIPTION:Earth Day and Arbor Day Celebration \nSaturday\, April 26th \n10 am-12 pm (rain or shine!) \n  \nPlease join the Mount Eagle community and Fairfax County officials for a tree planting dedication. Stay for a campus clean-up\, school garden renewal\, and Get2Green activities! \n \n  \nEvents and Activities: \n\nRemarks by Supervisor Rodney Lusk\, Fairfax County Dept. of Urban & Community Forestry\, and FCPS\nWater bottle decoration (first 200 current M.E. students)\nNature Scavenger Hunt\nChalk art\nMusic\nFace painting\nTie-dye station\n\n\nFREE – bring your own item to refresh!\n$20 – new Mt. Eagle spirit wear\n\n\nCelebratory cake (free)!\nFood and soft drinks available for sale (cash)\n\n \n  \n \nChildren must be accompanied by an adult.
URL:https://mteaglepto.com/events/earth-day/
LOCATION:Mount Eagle School\, 6116 N. Kings Highway\, VA\, 22303\, United States
ORGANIZER;CN="Mount Eagle PTO":MAILTO:mteaglepto@gmail.com
END:VEVENT
END:VCALENDAR