BEGIN:VCALENDAR
VERSION:2.0
PRODID:-//Mount Eagle Elementary PTO - ECPv6.14.0//NONSGML v1.0//EN
CALSCALE:GREGORIAN
METHOD:PUBLISH
X-ORIGINAL-URL:https://mteaglepto.com
X-WR-CALDESC:Events for Mount Eagle Elementary PTO
REFRESH-INTERVAL;VALUE=DURATION:PT1H
X-Robots-Tag:noindex
X-PUBLISHED-TTL:PT1H
BEGIN:VTIMEZONE
TZID:America/New_York
BEGIN:DAYLIGHT
TZOFFSETFROM:-0500
TZOFFSETTO:-0400
TZNAME:EDT
DTSTART:20250309T070000
END:DAYLIGHT
BEGIN:STANDARD
TZOFFSETFROM:-0400
TZOFFSETTO:-0500
TZNAME:EST
DTSTART:20251102T060000
END:STANDARD
END:VTIMEZONE
BEGIN:VEVENT
DTSTART;TZID=America/New_York:20250310T123000
DTEND;TZID=America/New_York:20250310T130000
DTSTAMP:20260423T062828
CREATED:20250228T155403Z
LAST-MODIFIED:20250228T155403Z
UID:2442-1741609800-1741611600@mteaglepto.com
SUMMARY:Early Release Monday
DESCRIPTION:Early Release Monday- Students dismiss at 12:30pm.
URL:https://mteaglepto.com/events/early-release-monday-3/
END:VEVENT
BEGIN:VEVENT
DTSTART;TZID=America/New_York:20250311T083000
DTEND;TZID=America/New_York:20250311T213000
DTSTAMP:20260423T062828
CREATED:20250108T161029Z
LAST-MODIFIED:20250228T155135Z
UID:2416-1741681800-1741728600@mteaglepto.com
SUMMARY:PTO MEETING
DESCRIPTION:PTO MEETING
URL:https://mteaglepto.com/events/pto-meeting/
LOCATION:School Library
CATEGORIES:PTO Events,PTO Meetings
ORGANIZER;CN="Mount Eagle PTO":MAILTO:mteaglepto@gmail.com
END:VEVENT
BEGIN:VEVENT
DTSTART;TZID=America/New_York:20250314T180000
DTEND;TZID=America/New_York:20250314T200000
DTSTAMP:20260423T062828
CREATED:20250228T155727Z
LAST-MODIFIED:20250303T140541Z
UID:2444-1741975200-1741982400@mteaglepto.com
SUMMARY:Multicultural Night 2025
DESCRIPTION:Please join us for Multicultural Night from 6-8pm in the school gymnasium. \nPlates will be 3 for $10 or 1 for $5. Drinks will also be available for purchase.
URL:https://mteaglepto.com/events/multicultural-night-2025/
LOCATION:Mount Eagle School\, 6116 N. Kings Highway\, VA\, 22303\, United States
ORGANIZER;CN="Mount Eagle PTO":MAILTO:mteaglepto@gmail.com
END:VEVENT
BEGIN:VEVENT
DTSTART;TZID=America/New_York:20250323T080000
DTEND;TZID=America/New_York:20250323T170000
DTSTAMP:20260423T062828
CREATED:20250312T165700Z
LAST-MODIFIED:20250312T170011Z
UID:2462-1742716800-1742749200@mteaglepto.com
SUMMARY:Garden work day
DESCRIPTION:Time TBD\, weather permitting\, we will begin getting our Mount Eagle garden ready for Earth day.
URL:https://mteaglepto.com/events/garden-work-day/
LOCATION:Mount Eagle School\, 6116 N. Kings Highway\, VA\, 22303\, United States
ORGANIZER;CN="Mount Eagle PTO":MAILTO:mteaglepto@gmail.com
END:VEVENT
BEGIN:VEVENT
DTSTART;VALUE=DATE:20250328
DTEND;VALUE=DATE:20250329
DTSTAMP:20260423T062828
CREATED:20250228T155813Z
LAST-MODIFIED:20250228T155813Z
UID:2446-1743120000-1743206399@mteaglepto.com
SUMMARY:End of Quarter 3
DESCRIPTION:
URL:https://mteaglepto.com/events/end-of-quarter-3/
END:VEVENT
BEGIN:VEVENT
DTSTART;VALUE=DATE:20250331
DTEND;VALUE=DATE:20250401
DTSTAMP:20260423T062828
CREATED:20250228T160004Z
LAST-MODIFIED:20250314T141546Z
UID:2448-1743379200-1743465599@mteaglepto.com
SUMMARY:Eid-al-Fitr- No school
DESCRIPTION:
URL:https://mteaglepto.com/events/eid-al-fitr/
END:VEVENT
END:VCALENDAR