BEGIN:VCALENDAR
VERSION:2.0
PRODID:-//Mount Eagle Elementary PTO - ECPv6.14.0//NONSGML v1.0//EN
CALSCALE:GREGORIAN
METHOD:PUBLISH
X-ORIGINAL-URL:https://mteaglepto.com
X-WR-CALDESC:Events for Mount Eagle Elementary PTO
REFRESH-INTERVAL;VALUE=DURATION:PT1H
X-Robots-Tag:noindex
X-PUBLISHED-TTL:PT1H
BEGIN:VTIMEZONE
TZID:America/New_York
BEGIN:DAYLIGHT
TZOFFSETFROM:-0500
TZOFFSETTO:-0400
TZNAME:EDT
DTSTART:20250309T070000
END:DAYLIGHT
BEGIN:STANDARD
TZOFFSETFROM:-0400
TZOFFSETTO:-0500
TZNAME:EST
DTSTART:20251102T060000
END:STANDARD
END:VTIMEZONE
BEGIN:VEVENT
DTSTART;TZID=America/New_York:20250915T080000
DTEND;TZID=America/New_York:20250915T110000
DTSTAMP:20260421T210227
CREATED:20250910T160934Z
LAST-MODIFIED:20250910T160934Z
UID:2656-1757923200-1757934000@mteaglepto.com
SUMMARY:Teacher Appreciation Potluck
DESCRIPTION:Welcome back to another great school year. We’d like to kick off the year by providing a potluck for our Mt. Eagle teachers and staff to show our appreciation for all that they do. Please bring your yummy dishes and baked goods on Monday\, September 15 to the break room/staff lounge across from the library at drop off. \nPlease bring a lunch-time dish to the staff pot-luck on Monday . Food can be taken to the break-room across from the library at drop-off. Kirsten and others will be available to help receive and organize contributions from 8:25-8:45. Any last items should be dropped off no later than 11 am. \nThe PTO will provide plates\, utensils\, and napkins\, but please include any special serving utensils needed. Please also plan to take home any food items after-school.
URL:https://mteaglepto.com/events/teacher-appreciation-potluck/
LOCATION:Break Room (by the library)
CATEGORIES:PTO Events
END:VEVENT
END:VCALENDAR