BEGIN:VCALENDAR
VERSION:2.0
PRODID:-//Mount Eagle Elementary PTO - ECPv6.14.0//NONSGML v1.0//EN
CALSCALE:GREGORIAN
METHOD:PUBLISH
X-ORIGINAL-URL:https://mteaglepto.com
X-WR-CALDESC:Events for Mount Eagle Elementary PTO
REFRESH-INTERVAL;VALUE=DURATION:PT1H
X-Robots-Tag:noindex
X-PUBLISHED-TTL:PT1H
BEGIN:VTIMEZONE
TZID:America/New_York
BEGIN:DAYLIGHT
TZOFFSETFROM:-0500
TZOFFSETTO:-0400
TZNAME:EDT
DTSTART:20250309T070000
END:DAYLIGHT
BEGIN:STANDARD
TZOFFSETFROM:-0400
TZOFFSETTO:-0500
TZNAME:EST
DTSTART:20251102T060000
END:STANDARD
END:VTIMEZONE
BEGIN:VEVENT
DTSTART;TZID=America/New_York:20250827T173000
DTEND;TZID=America/New_York:20250827T193000
DTSTAMP:20260423T002131
CREATED:20250816T015339Z
LAST-MODIFIED:20250816T015339Z
UID:2591-1756315800-1756323000@mteaglepto.com
SUMMARY:Back to School Night
DESCRIPTION:Mark your calendars now: We’ll have our Back to School Night from 6:00-7:30pm. PTO will be offering food for sale prior to Back-to-School Night beginning at 5:30pm. \nClassrooms will open at 6:30pm. Teachers will do two AM presentations and two PM presentations. This is a time for families to hear from teachers about what happens in the classroom\, how to communicate and how to support your student.
URL:https://mteaglepto.com/events/back-to-school-night/
LOCATION:Mount Eagle School\, 6116 N. Kings Highway\, VA\, 22303\, United States
END:VEVENT
END:VCALENDAR