BEGIN:VCALENDAR
VERSION:2.0
PRODID:-//Mount Eagle Elementary PTO - ECPv6.14.0//NONSGML v1.0//EN
CALSCALE:GREGORIAN
METHOD:PUBLISH
X-ORIGINAL-URL:https://mteaglepto.com
X-WR-CALDESC:Events for Mount Eagle Elementary PTO
REFRESH-INTERVAL;VALUE=DURATION:PT1H
X-Robots-Tag:noindex
X-PUBLISHED-TTL:PT1H
BEGIN:VTIMEZONE
TZID:America/New_York
BEGIN:DAYLIGHT
TZOFFSETFROM:-0500
TZOFFSETTO:-0400
TZNAME:EDT
DTSTART:20250309T070000
END:DAYLIGHT
BEGIN:STANDARD
TZOFFSETFROM:-0400
TZOFFSETTO:-0500
TZNAME:EST
DTSTART:20251102T060000
END:STANDARD
END:VTIMEZONE
BEGIN:VEVENT
DTSTART;TZID=America/New_York:20250519T083000
DTEND;TZID=America/New_York:20250519T153000
DTSTAMP:20260423T051544
CREATED:20250317T134905Z
LAST-MODIFIED:20250515T194952Z
UID:2494-1747643400-1747668600@mteaglepto.com
SUMMARY:PotLuck for Teachers/Staff
DESCRIPTION:The PTO is hosting an end of year Teacher appreciation potluck in the teacher’s lounge on Monday May 19th. Please bring sign up via the link below and make sure to bring items in the morning during drop off and pick up any dishes/utensils/etc. during pick up at the end of the day. \nhttps://www.signupgenius.com/go/5080A48A8AA2BA3FC1-56862733-mteagle/103387304#/ \nThank you so much for supporting our incredible school and the staff who we are so lucky to have!
URL:https://mteaglepto.com/events/pto-meeting-2/
CATEGORIES:PTO Meetings
END:VEVENT
END:VCALENDAR