BEGIN:VCALENDAR
VERSION:2.0
PRODID:-//Mount Eagle Elementary PTO - ECPv6.14.0//NONSGML v1.0//EN
CALSCALE:GREGORIAN
METHOD:PUBLISH
X-ORIGINAL-URL:https://mteaglepto.com
X-WR-CALDESC:Events for Mount Eagle Elementary PTO
REFRESH-INTERVAL;VALUE=DURATION:PT1H
X-Robots-Tag:noindex
X-PUBLISHED-TTL:PT1H
BEGIN:VTIMEZONE
TZID:America/New_York
BEGIN:DAYLIGHT
TZOFFSETFROM:-0500
TZOFFSETTO:-0400
TZNAME:EDT
DTSTART:20250309T070000
END:DAYLIGHT
BEGIN:STANDARD
TZOFFSETFROM:-0400
TZOFFSETTO:-0500
TZNAME:EST
DTSTART:20251102T060000
END:STANDARD
END:VTIMEZONE
BEGIN:VEVENT
DTSTART;TZID=America/New_York:20250509T091500
DTEND;TZID=America/New_York:20250509T104500
DTSTAMP:20260423T045317
CREATED:20250312T170428Z
LAST-MODIFIED:20250312T170428Z
UID:2469-1746782100-1746787500@mteaglepto.com
SUMMARY:Kindergarten Orientation
DESCRIPTION:Please join us for Kindergarten Orientation for the 2025-2026 school year.
URL:https://mteaglepto.com/events/kindergarten-orientation/
LOCATION:Mount Eagle School\, 6116 N. Kings Highway\, VA\, 22303\, United States
END:VEVENT
END:VCALENDAR