BEGIN:VCALENDAR
VERSION:2.0
PRODID:-//Mount Eagle Elementary PTO - ECPv6.14.0//NONSGML v1.0//EN
CALSCALE:GREGORIAN
METHOD:PUBLISH
X-WR-CALNAME:Mount Eagle Elementary PTO
X-ORIGINAL-URL:https://mteaglepto.com
X-WR-CALDESC:Events for Mount Eagle Elementary PTO
REFRESH-INTERVAL;VALUE=DURATION:PT1H
X-Robots-Tag:noindex
X-PUBLISHED-TTL:PT1H
BEGIN:VTIMEZONE
TZID:America/New_York
BEGIN:DAYLIGHT
TZOFFSETFROM:-0500
TZOFFSETTO:-0400
TZNAME:EDT
DTSTART:20250309T070000
END:DAYLIGHT
BEGIN:STANDARD
TZOFFSETFROM:-0400
TZOFFSETTO:-0500
TZNAME:EST
DTSTART:20251102T060000
END:STANDARD
END:VTIMEZONE
BEGIN:VEVENT
DTSTART;TZID=America/New_York:20250314T180000
DTEND;TZID=America/New_York:20250314T200000
DTSTAMP:20260423T080128
CREATED:20250228T155727Z
LAST-MODIFIED:20250303T140541Z
UID:2444-1741975200-1741982400@mteaglepto.com
SUMMARY:Multicultural Night 2025
DESCRIPTION:Please join us for Multicultural Night from 6-8pm in the school gymnasium. \nPlates will be 3 for $10 or 1 for $5. Drinks will also be available for purchase.
URL:https://mteaglepto.com/events/multicultural-night-2025/
LOCATION:Mount Eagle School\, 6116 N. Kings Highway\, VA\, 22303\, United States
ORGANIZER;CN="Mount Eagle PTO":MAILTO:mteaglepto@gmail.com
END:VEVENT
END:VCALENDAR